BEGIN:VCALENDAR
VERSION:2.0
PRODID:-//De Regentes - ECPv6.0.8//NONSGML v1.0//EN
CALSCALE:GREGORIAN
METHOD:PUBLISH
X-WR-CALNAME:De Regentes
X-ORIGINAL-URL:https://theaterderegentes.nl
X-WR-CALDESC:Evenementen voor De Regentes
REFRESH-INTERVAL;VALUE=DURATION:PT1H
X-Robots-Tag:noindex
X-PUBLISHED-TTL:PT1H
BEGIN:VTIMEZONE
TZID:Europe/Amsterdam
BEGIN:DAYLIGHT
TZOFFSETFROM:+0100
TZOFFSETTO:+0200
TZNAME:CEST
DTSTART:20260329T010000
END:DAYLIGHT
BEGIN:STANDARD
TZOFFSETFROM:+0200
TZOFFSETTO:+0100
TZNAME:CET
DTSTART:20261025T010000
END:STANDARD
END:VTIMEZONE
BEGIN:VEVENT
DTSTART;TZID=Europe/Amsterdam:20260426T140000
DTEND;TZID=Europe/Amsterdam:20260426T144000
DTSTAMP:20260422T040613
CREATED:20251216T185915Z
LAST-MODIFIED:20260422T005025Z
UID:10001388-1777212000-1777214400@theaterderegentes.nl
SUMMARY:Zeezucht 4+
DESCRIPTION:
URL:https://theaterderegentes.nl/event/zeezucht-4/
LOCATION:Grote Zaal
CATEGORIES:Jeugd en familie
END:VEVENT
END:VCALENDAR