BEGIN:VCALENDAR
VERSION:2.0
PRODID:-//De Regentes - ECPv6.0.8//NONSGML v1.0//EN
CALSCALE:GREGORIAN
METHOD:PUBLISH
X-WR-CALNAME:De Regentes
X-ORIGINAL-URL:https://theaterderegentes.nl
X-WR-CALDESC:Evenementen voor De Regentes
REFRESH-INTERVAL;VALUE=DURATION:PT1H
X-Robots-Tag:noindex
X-PUBLISHED-TTL:PT1H
BEGIN:VTIMEZONE
TZID:Europe/Amsterdam
BEGIN:DAYLIGHT
TZOFFSETFROM:+0100
TZOFFSETTO:+0200
TZNAME:CEST
DTSTART:20260329T010000
END:DAYLIGHT
BEGIN:STANDARD
TZOFFSETFROM:+0200
TZOFFSETTO:+0100
TZNAME:CET
DTSTART:20261025T010000
END:STANDARD
END:VTIMEZONE
BEGIN:VEVENT
DTSTART;TZID=Europe/Amsterdam:20260508T093000
DTEND;TZID=Europe/Amsterdam:20260508T101500
DTSTAMP:20260421T161911
CREATED:20260121T095949Z
LAST-MODIFIED:20260421T140254Z
UID:10001370-1778232600-1778235300@theaterderegentes.nl
SUMMARY:Peuterdans
DESCRIPTION:
URL:https://theaterderegentes.nl/event/peuterdans-4/
LOCATION:Studio
CATEGORIES:Jeugd en familie
END:VEVENT
BEGIN:VEVENT
DTSTART;TZID=Europe/Amsterdam:20260515T093000
DTEND;TZID=Europe/Amsterdam:20260515T101500
DTSTAMP:20260421T161911
CREATED:20260121T095951Z
LAST-MODIFIED:20260421T140415Z
UID:10001371-1778837400-1778840100@theaterderegentes.nl
SUMMARY:Peuterdans
DESCRIPTION:
URL:https://theaterderegentes.nl/event/peuterdans-4/
LOCATION:Studio
CATEGORIES:Jeugd en familie
END:VEVENT
BEGIN:VEVENT
DTSTART;TZID=Europe/Amsterdam:20260522T093000
DTEND;TZID=Europe/Amsterdam:20260522T101500
DTSTAMP:20260421T161911
CREATED:20260121T095953Z
LAST-MODIFIED:20260421T135039Z
UID:10001376-1779442200-1779444900@theaterderegentes.nl
SUMMARY:Peuterdans
DESCRIPTION:
URL:https://theaterderegentes.nl/event/peuterdans-4/
LOCATION:Studio
CATEGORIES:Jeugd en familie
END:VEVENT
BEGIN:VEVENT
DTSTART;TZID=Europe/Amsterdam:20260529T093000
DTEND;TZID=Europe/Amsterdam:20260529T101500
DTSTAMP:20260421T161911
CREATED:20260121T095956Z
LAST-MODIFIED:20260421T140253Z
UID:10001377-1780047000-1780049700@theaterderegentes.nl
SUMMARY:Peuterdans
DESCRIPTION:
URL:https://theaterderegentes.nl/event/peuterdans-4/
LOCATION:Studio
CATEGORIES:Jeugd en familie
END:VEVENT
BEGIN:VEVENT
DTSTART;TZID=Europe/Amsterdam:20260605T093000
DTEND;TZID=Europe/Amsterdam:20260605T101500
DTSTAMP:20260421T161911
CREATED:20260121T095958Z
LAST-MODIFIED:20260421T140415Z
UID:10001374-1780651800-1780654500@theaterderegentes.nl
SUMMARY:Peuterdans
DESCRIPTION:
URL:https://theaterderegentes.nl/event/peuterdans-4/
LOCATION:Studio
CATEGORIES:Jeugd en familie
END:VEVENT
BEGIN:VEVENT
DTSTART;TZID=Europe/Amsterdam:20260612T093000
DTEND;TZID=Europe/Amsterdam:20260612T101500
DTSTAMP:20260421T161911
CREATED:20260121T100000Z
LAST-MODIFIED:20260421T140254Z
UID:10001369-1781256600-1781259300@theaterderegentes.nl
SUMMARY:Peuterdans
DESCRIPTION:
URL:https://theaterderegentes.nl/event/peuterdans-4/
LOCATION:Studio
CATEGORIES:Jeugd en familie
END:VEVENT
BEGIN:VEVENT
DTSTART;TZID=Europe/Amsterdam:20260619T093000
DTEND;TZID=Europe/Amsterdam:20260619T101500
DTSTAMP:20260421T161911
CREATED:20260121T100003Z
LAST-MODIFIED:20260421T140253Z
UID:10001368-1781861400-1781864100@theaterderegentes.nl
SUMMARY:Peuterdans
DESCRIPTION:
URL:https://theaterderegentes.nl/event/peuterdans-4/
LOCATION:Studio
CATEGORIES:Jeugd en familie
END:VEVENT
BEGIN:VEVENT
DTSTART;TZID=Europe/Amsterdam:20260626T093000
DTEND;TZID=Europe/Amsterdam:20260626T101500
DTSTAMP:20260421T161911
CREATED:20260121T100005Z
LAST-MODIFIED:20260421T134908Z
UID:10001373-1782466200-1782468900@theaterderegentes.nl
SUMMARY:Peuterdans
DESCRIPTION:
URL:https://theaterderegentes.nl/event/peuterdans-4/
LOCATION:Studio
CATEGORIES:Jeugd en familie
END:VEVENT
END:VCALENDAR